BEGIN:VCALENDAR
VERSION:2.0
BEGIN:VEVENT
DTSTART;TZID=Europe/Stockholm:20251107T164500
DTEND;TZID=Europe/Stockholm:20251107T174500
DTSTAMP:20260424T114452
DESCRIPTION:
SEQUENCE:0
SUMMARY:Konfirmationsläsning.
UID:6449@lawebb.se
END:VEVENT
END:VCALENDAR