BEGIN:VCALENDAR
VERSION:2.0
BEGIN:VEVENT
DTSTART;TZID=Europe/Stockholm:20251106T110000
DTEND;TZID=Europe/Stockholm:20251106T120000
DTSTAMP:20260424T114419
DESCRIPTION:
SEQUENCE:0
SUMMARY:Begravningsgudstjänst (Sven-Gunnar Gunnarsson).
UID:7883@lawebb.se
END:VEVENT
END:VCALENDAR