BEGIN:VCALENDAR
VERSION:2.0
BEGIN:VEVENT
DTSTART;TZID=Europe/Stockholm:20251104T183000
DTEND;TZID=Europe/Stockholm:20251104T193000
DTSTAMP:20260424T114510
DESCRIPTION:
SEQUENCE:0
SUMMARY:Ekumenisk bön i Centrumkyrkan.
UID:3837@lawebb.se
END:VEVENT
END:VCALENDAR