BEGIN:VCALENDAR
VERSION:2.0
BEGIN:VEVENT
DTSTART;TZID=Europe/Stockholm:20251102T100000
DTEND;TZID=Europe/Stockholm:20251102T110000
DTSTAMP:20260424T114303
DESCRIPTION:Aron Kjösnes, Kjell Larsson, Ulrika Axelsson m.fl. Minnesord över under året hemgångna medlemmar. Söndagskul. Nattvard. Servering.
SEQUENCE:0
SUMMARY:Gudstjänst på söndagen efter allhelgonadagen.
UID:8369@lawebb.se
END:VEVENT
END:VCALENDAR