BEGIN:VCALENDAR
VERSION:2.0
BEGIN:VEVENT
DTSTART;TZID=Europe/Stockholm:20251101T180000
DTEND;TZID=Europe/Stockholm:20251101T190000
DTSTAMP:20260424T114250
DESCRIPTION:Lena Maria Vendelius, Jönköping, m.fl. Ett samarrangemang med Erikshjälpen och Bilda.
SEQUENCE:0
SUMMARY:Hela kyrkan sjunger.
UID:9394@lawebb.se
END:VEVENT
END:VCALENDAR