BEGIN:VCALENDAR
VERSION:2.0
BEGIN:VEVENT
DTSTART;TZID=Europe/Stockholm:20251031T164500
DTEND;TZID=Europe/Stockholm:20251031T174500
DTSTAMP:20260424T122356
DESCRIPTION:
SEQUENCE:0
SUMMARY:Konfirmationsläsning.
UID:2667@lawebb.se
END:VEVENT
END:VCALENDAR