BEGIN:VCALENDAR
VERSION:2.0
BEGIN:VEVENT
DTSTART;TZID=Europe/Stockholm:20251029T141500
DTEND;TZID=Europe/Stockholm:20251029T151500
DTSTAMP:20260424T122424
DESCRIPTION:
SEQUENCE:0
SUMMARY:Andakt på Blomstervägen.
UID:2925@lawebb.se
END:VEVENT
END:VCALENDAR