BEGIN:VCALENDAR
VERSION:2.0
BEGIN:VEVENT
DTSTART;TZID=Europe/Stockholm:20251028T190000
DTEND;TZID=Europe/Stockholm:20251028T200000
DTSTAMP:20260424T122309
DESCRIPTION:Ämne: Att försonas med livet.
SEQUENCE:0
SUMMARY:&#34;Söka och finna livsmod&#34;, del 2.
UID:9792@lawebb.se
END:VEVENT
END:VCALENDAR