BEGIN:VCALENDAR
VERSION:2.0
BEGIN:VEVENT
DTSTART;TZID=Europe/Stockholm:20251028T143000
DTEND;TZID=Europe/Stockholm:20251028T153000
DTSTAMP:20260424T122428
DESCRIPTION:&#34;På väg igen – från läsarsång till country&#34;. Jard Samuelson. Servering.
SEQUENCE:0
SUMMARY:Dagledigträff i församlingshemmet.
UID:5959@lawebb.se
END:VEVENT
END:VCALENDAR