BEGIN:VCALENDAR
VERSION:2.0
BEGIN:VEVENT
DTSTART;TZID=Europe/Stockholm:20251028T183000
DTEND;TZID=Europe/Stockholm:20251028T193000
DTSTAMP:20260424T122456
DESCRIPTION:
SEQUENCE:0
SUMMARY:Ekumenisk bön i Centrumkyrkan.
UID:7663@lawebb.se
END:VEVENT
END:VCALENDAR