BEGIN:VCALENDAR
VERSION:2.0
BEGIN:VEVENT
DTSTART;TZID=Europe/Stockholm:20251026T100000
DTEND;TZID=Europe/Stockholm:20251026T110000
DTSTAMP:20260424T122357
DESCRIPTION:Tomas Themar: &#34;Kan Du se skogen för alla träd?&#34;. Söndagskul. Information om och insamling till Goda Nyheter. Servering.
SEQUENCE:0
SUMMARY:Gudstjänst.
UID:6949@lawebb.se
END:VEVENT
END:VCALENDAR