BEGIN:VCALENDAR
VERSION:2.0
BEGIN:VEVENT
DTSTART;TZID=Europe/Stockholm:20251025T190000
DTEND;TZID=Europe/Stockholm:20251025T200000
DTSTAMP:20260424T122324
DESCRIPTION:In Joy från Hestra. Servering.
SEQUENCE:0
SUMMARY:Hörnkväll.
UID:2276@lawebb.se
END:VEVENT
END:VCALENDAR