BEGIN:VCALENDAR
VERSION:2.0
BEGIN:VEVENT
DTSTART;TZID=Europe/Stockholm:20251021T183000
DTEND;TZID=Europe/Stockholm:20251021T193000
DTSTAMP:20260424T122447
DESCRIPTION:
SEQUENCE:0
SUMMARY:Ekumenisk bön i Centrumkyrkan.
UID:7465@lawebb.se
END:VEVENT
END:VCALENDAR