BEGIN:VCALENDAR
VERSION:2.0
BEGIN:VEVENT
DTSTART;TZID=Europe/Stockholm:20251021T100000
DTEND;TZID=Europe/Stockholm:20251021T110000
DTSTAMP:20260424T122228
DESCRIPTION:
SEQUENCE:0
SUMMARY:Öppen kyrka kl. 10–12.
UID:9386@lawebb.se
END:VEVENT
END:VCALENDAR