BEGIN:VCALENDAR
VERSION:2.0
BEGIN:VEVENT
DTSTART;TZID=Europe/Stockholm:20251014T143000
DTEND;TZID=Europe/Stockholm:20251014T153000
DTSTAMP:20260424T122325
DESCRIPTION:&#34;En höstljus eftermiddag&#34; med Lasse Mellergårds, Värnamo, egna visor. Servering.
SEQUENCE:0
SUMMARY:Dagledigträff i Centrumkyrkan.
UID:3894@lawebb.se
END:VEVENT
END:VCALENDAR