BEGIN:VCALENDAR
VERSION:2.0
BEGIN:VEVENT
DTSTART;TZID=Europe/Stockholm:20251014T183000
DTEND;TZID=Europe/Stockholm:20251014T193000
DTSTAMP:20260424T122454
DESCRIPTION:
SEQUENCE:0
SUMMARY:Ekumenisk bön i Centrumkyrkan.
UID:2242@lawebb.se
END:VEVENT
END:VCALENDAR