BEGIN:VCALENDAR
VERSION:2.0
BEGIN:VEVENT
DTSTART;TZID=Europe/Stockholm:20251012T113000
DTEND;TZID=Europe/Stockholm:20251012T123000
DTSTAMP:20260424T122452
DESCRIPTION:Internationella rådet ordnar med försäljning till förmån för Världens barn-insamlingen.
SEQUENCE:0
SUMMARY:Försäljning till förmån för Världens barn.
UID:4339@lawebb.se
END:VEVENT
END:VCALENDAR