BEGIN:VCALENDAR
VERSION:2.0
BEGIN:VEVENT
DTSTART;TZID=Europe/Stockholm:20251012T100000
DTEND;TZID=Europe/Stockholm:20251012T110000
DTSTAMP:20260424T122357
DESCRIPTION:Beatrice Bergroth, pastor i Pingst Jönköping med ansvar för internationellt arbete. Information om missionsarbetet i Sydsudan. Internationella rådet. Servering.
SEQUENCE:0
SUMMARY:Missionsgudstjänst på tacksägelsedagen.
UID:2526@lawebb.se
END:VEVENT
END:VCALENDAR