BEGIN:VCALENDAR
VERSION:2.0
BEGIN:VEVENT
DTSTART;TZID=Europe/Stockholm:20251010T164500
DTEND;TZID=Europe/Stockholm:20251010T174500
DTSTAMP:20260424T122245
DESCRIPTION:
SEQUENCE:0
SUMMARY:Konfirmationsläsning.
UID:2525@lawebb.se
END:VEVENT
END:VCALENDAR