BEGIN:VCALENDAR
VERSION:2.0
BEGIN:VEVENT
DTSTART;TZID=Europe/Stockholm:20251009T180000
DTEND;TZID=Europe/Stockholm:20251009T190000
DTSTAMP:20260424T122448
DESCRIPTION:
SEQUENCE:0
SUMMARY:Scout.
UID:6445@lawebb.se
END:VEVENT
END:VCALENDAR