BEGIN:VCALENDAR
VERSION:2.0
BEGIN:VEVENT
DTSTART;TZID=Europe/Stockholm:20251002T110000
DTEND;TZID=Europe/Stockholm:20251002T120000
DTSTAMP:20260424T122334
DESCRIPTION:
SEQUENCE:0
SUMMARY:Begravningsgudstjänst (Anna-Lisa Haglund).
UID:4822@lawebb.se
END:VEVENT
END:VCALENDAR