BEGIN:VCALENDAR
VERSION:2.0
BEGIN:VEVENT
DTSTART;TZID=Europe/Stockholm:20251002T180000
DTEND;TZID=Europe/Stockholm:20251002T190000
DTSTAMP:20260424T122313
DESCRIPTION:
SEQUENCE:0
SUMMARY:Scout.
UID:3332@lawebb.se
END:VEVENT
END:VCALENDAR