BEGIN:VCALENDAR
VERSION:2.0
BEGIN:VEVENT
DTSTART;TZID=Europe/Stockholm:20241029T100000
DTEND;TZID=Europe/Stockholm:20241029T110000
DTSTAMP:20260424T100948
DESCRIPTION:
SEQUENCE:0
SUMMARY:Öppen kyrka kl. 10–12.
UID:6956@lawebb.se
END:VEVENT
END:VCALENDAR