BEGIN:VCALENDAR
VERSION:2.0
BEGIN:VEVENT
DTSTART;TZID=Europe/Stockholm:20241025T164500
DTEND;TZID=Europe/Stockholm:20241025T174500
DTSTAMP:20260424T101100
DESCRIPTION:
SEQUENCE:0
SUMMARY:Konfirmationsundervisning.
UID:3284@lawebb.se
END:VEVENT
END:VCALENDAR