BEGIN:VCALENDAR
VERSION:2.0
BEGIN:VEVENT
DTSTART;TZID=Europe/Stockholm:20241025T190000
DTEND;TZID=Europe/Stockholm:20241025T200000
DTSTAMP:20260424T100917
DESCRIPTION:
SEQUENCE:0
SUMMARY:Tonår.
UID:4286@lawebb.se
END:VEVENT
END:VCALENDAR