BEGIN:VCALENDAR
VERSION:2.0
BEGIN:VEVENT
DTSTART;TZID=Europe/Stockholm:20241018T164500
DTEND;TZID=Europe/Stockholm:20241018T174500
DTSTAMP:20260424T101113
DESCRIPTION:
SEQUENCE:0
SUMMARY:Konfirmationsundervisning.
UID:4664@lawebb.se
END:VEVENT
END:VCALENDAR