BEGIN:VCALENDAR
VERSION:2.0
BEGIN:VEVENT
DTSTART;TZID=Europe/Stockholm:20241011T190000
DTEND;TZID=Europe/Stockholm:20241011T200000
DTSTAMP:20260424T100929
DESCRIPTION:
SEQUENCE:0
SUMMARY:Tonår.
UID:6479@lawebb.se
END:VEVENT
END:VCALENDAR