BEGIN:VCALENDAR
VERSION:2.0
BEGIN:VEVENT
DTSTART;TZID=Europe/Stockholm:20241003T180000
DTEND;TZID=Europe/Stockholm:20241003T190000
DTSTAMP:20260424T101154
DESCRIPTION:
SEQUENCE:0
SUMMARY:Scout på Holmen.
UID:7449@lawebb.se
END:VEVENT
END:VCALENDAR