BEGIN:VCALENDAR
VERSION:2.0
BEGIN:VEVENT
DTSTART;TZID=Europe/Stockholm:20241001T183000
DTEND;TZID=Europe/Stockholm:20241001T193000
DTSTAMP:20260424T100837
DESCRIPTION:
SEQUENCE:0
SUMMARY:Ekumenisk bön i Gislaveds kyrka.
UID:4685@lawebb.se
END:VEVENT
END:VCALENDAR