BEGIN:VCALENDAR
VERSION:2.0
BEGIN:VEVENT
DTSTART;TZID=Europe/Stockholm:20240927T164500
DTEND;TZID=Europe/Stockholm:20240927T174500
DTSTAMP:20260424T095101
DESCRIPTION:
SEQUENCE:0
SUMMARY:Konfirmationsundervisning.
UID:7873@lawebb.se
END:VEVENT
END:VCALENDAR