BEGIN:VCALENDAR
VERSION:2.0
BEGIN:VEVENT
DTSTART;TZID=Europe/Stockholm:20240927T190000
DTEND;TZID=Europe/Stockholm:20240927T200000
DTSTAMP:20260424T094918
DESCRIPTION:
SEQUENCE:0
SUMMARY:Tonår.
UID:4225@lawebb.se
END:VEVENT
END:VCALENDAR