BEGIN:VCALENDAR
VERSION:2.0
BEGIN:VEVENT
DTSTART;TZID=Europe/Stockholm:20240924T100000
DTEND;TZID=Europe/Stockholm:20240924T110000
DTSTAMP:20260424T095010
DESCRIPTION:
SEQUENCE:0
SUMMARY:Öppen kyrka kl. 10–12.
UID:3926@lawebb.se
END:VEVENT
END:VCALENDAR