BEGIN:VCALENDAR
VERSION:2.0
BEGIN:VEVENT
DTSTART;TZID=Europe/Stockholm:20240920T164500
DTEND;TZID=Europe/Stockholm:20240920T174500
DTSTAMP:20260424T095316
DESCRIPTION:
SEQUENCE:0
SUMMARY:Konfirmationsundervisning.
UID:9366@lawebb.se
END:VEVENT
END:VCALENDAR