BEGIN:VCALENDAR
VERSION:2.0
BEGIN:VEVENT
DTSTART;TZID=Europe/Stockholm:20240920T190000
DTEND;TZID=Europe/Stockholm:20240920T200000
DTSTAMP:20260424T095021
DESCRIPTION:
SEQUENCE:0
SUMMARY:Tonår.
UID:8499@lawebb.se
END:VEVENT
END:VCALENDAR