BEGIN:VCALENDAR
VERSION:2.0
BEGIN:VEVENT
DTSTART;TZID=Europe/Stockholm:20240918T153000
DTEND;TZID=Europe/Stockholm:20240918T163000
DTSTAMP:20260424T095002
DESCRIPTION:Vi möts kl. 15.30–17.00 till läxhjälp, pingis, gemenskap, fika m.m. Samling tillsammans med Svenska kyrkan.
SEQUENCE:0
SUMMARY:Språkcafé.
UID:8732@lawebb.se
END:VEVENT
END:VCALENDAR