BEGIN:VCALENDAR
VERSION:2.0
BEGIN:VEVENT
DTSTART;TZID=Europe/Stockholm:20240912T180000
DTEND;TZID=Europe/Stockholm:20240912T190000
DTSTAMP:20260424T095239
DESCRIPTION:
SEQUENCE:0
SUMMARY:Scout på Holmen.
UID:7588@lawebb.se
END:VEVENT
END:VCALENDAR