BEGIN:VCALENDAR
VERSION:2.0
BEGIN:VEVENT
DTSTART;TZID=Europe/Stockholm:20240911T153000
DTEND;TZID=Europe/Stockholm:20240911T163000
DTSTAMP:20260424T095000
DESCRIPTION:Vi möts kl. 15.30–17.00 till läxhjälp, pingis, gemenskap, fika m.m. Samling tillsammans med Svenska kyrkan.
SEQUENCE:0
SUMMARY:Språkcafé.
UID:6848@lawebb.se
END:VEVENT
END:VCALENDAR