BEGIN:VCALENDAR
VERSION:2.0
BEGIN:VEVENT
DTSTART;TZID=Europe/Stockholm:20240906T190000
DTEND;TZID=Europe/Stockholm:20240906T200000
DTSTAMP:20260424T094900
DESCRIPTION:
SEQUENCE:0
SUMMARY:Tonår.
UID:4532@lawebb.se
END:VEVENT
END:VCALENDAR