BEGIN:VCALENDAR
VERSION:2.0
BEGIN:VEVENT
DTSTART;TZID=Europe/Stockholm:20240905T180000
DTEND;TZID=Europe/Stockholm:20240905T190000
DTSTAMP:20260424T095148
DESCRIPTION:
SEQUENCE:0
SUMMARY:Scout på Holmen.
UID:8258@lawebb.se
END:VEVENT
END:VCALENDAR