BEGIN:VCALENDAR
VERSION:2.0
BEGIN:VEVENT
DTSTART;TZID=Europe/Stockholm:20240903T183000
DTEND;TZID=Europe/Stockholm:20240903T193000
DTSTAMP:20260424T095011
DESCRIPTION:
SEQUENCE:0
SUMMARY:Ekumenisk bön i Gislaveds kyrka.
UID:4379@lawebb.se
END:VEVENT
END:VCALENDAR