BEGIN:VCALENDAR
VERSION:2.0
BEGIN:VEVENT
DTSTART;TZID=Europe/Stockholm:20240830T190000
DTEND;TZID=Europe/Stockholm:20240830T200000
DTSTAMP:20260424T092115
DESCRIPTION:
SEQUENCE:0
SUMMARY:Tonår.
UID:5759@lawebb.se
END:VEVENT
END:VCALENDAR