BEGIN:VCALENDAR
VERSION:2.0
BEGIN:VEVENT
DTSTART;TZID=Europe/Stockholm:20240820T183000
DTEND;TZID=Europe/Stockholm:20240820T193000
DTSTAMP:20260424T092322
DESCRIPTION:
SEQUENCE:0
SUMMARY:Ekumenisk bön i Gislaveds kyrka.
UID:5955@lawebb.se
END:VEVENT
END:VCALENDAR