BEGIN:VCALENDAR
VERSION:2.0
BEGIN:VEVENT
DTSTART;TZID=Europe/Stockholm:20240813T183000
DTEND;TZID=Europe/Stockholm:20240813T193000
DTSTAMP:20260424T092215
DESCRIPTION:
SEQUENCE:0
SUMMARY:Ekumenisk bön i Gislaveds kyrka.
UID:9352@lawebb.se
END:VEVENT
END:VCALENDAR