BEGIN:VCALENDAR
VERSION:2.0
BEGIN:VEVENT
DTSTART;TZID=Europe/Stockholm:20240813T100000
DTEND;TZID=Europe/Stockholm:20240813T110000
DTSTAMP:20260424T092257
DESCRIPTION:
SEQUENCE:0
SUMMARY:Öppen kyrka kl. 10–12.
UID:6875@lawebb.se
END:VEVENT
END:VCALENDAR