BEGIN:VCALENDAR
VERSION:2.0
BEGIN:VEVENT
DTSTART;TZID=Europe/Stockholm:20240804T100000
DTEND;TZID=Europe/Stockholm:20240804T110000
DTSTAMP:20260424T092321
DESCRIPTION:
SEQUENCE:0
SUMMARY:Gudstjänst
UID:4689@lawebb.se
END:VEVENT
END:VCALENDAR