BEGIN:VCALENDAR
VERSION:2.0
BEGIN:VEVENT
DTSTART;TZID=Europe/Stockholm:20240716T100000
DTEND;TZID=Europe/Stockholm:20240716T110000
DTSTAMP:20260424T094621
DESCRIPTION:
SEQUENCE:0
SUMMARY:Öppen kyrka kl. 10–12.
UID:9338@lawebb.se
END:VEVENT
END:VCALENDAR