BEGIN:VCALENDAR
VERSION:2.0
BEGIN:VEVENT
DTSTART;TZID=Europe/Stockholm:20240702T100000
DTEND;TZID=Europe/Stockholm:20240702T110000
DTSTAMP:20260424T094623
DESCRIPTION:
SEQUENCE:0
SUMMARY:Öppen kyrka kl. 10–12.
UID:7356@lawebb.se
END:VEVENT
END:VCALENDAR